BEGIN:VCALENDAR
VERSION:2.0
PRODID:-//The Labari Journal - ECPv6.15.20//NONSGML v1.0//EN
CALSCALE:GREGORIAN
METHOD:PUBLISH
X-WR-CALNAME:The Labari Journal
X-ORIGINAL-URL:https://labarijournal.com
X-WR-CALDESC:Events for The Labari Journal
REFRESH-INTERVAL;VALUE=DURATION:PT1H
X-Robots-Tag:noindex
X-PUBLISHED-TTL:PT1H
BEGIN:VTIMEZONE
TZID:Africa/Accra
BEGIN:STANDARD
TZOFFSETFROM:+0000
TZOFFSETTO:+0000
TZNAME:GMT
DTSTART:20240101T000000
END:STANDARD
END:VTIMEZONE
BEGIN:VEVENT
DTSTART;VALUE=DATE:20251016
DTEND;VALUE=DATE:20251027
DTSTAMP:20260425T032934
CREATED:20251009T231904Z
LAST-MODIFIED:20251013T172958Z
UID:7766-1760572800-1761523199@labarijournal.com
SUMMARY:Nairobi Film Festival 2025
DESCRIPTION:A cornerstone of East Africa’s cultural scene\, the Nairobi Film Festival has become a key fixture on the continent’s creative calendar\, spotlighting the bold voices shaping African cinema today. \nThe festival brings together filmmakers\, storytellers\, and audiences to celebrate thought-provoking narratives and artistic innovation across genres. \nLocation: Nairobi\, Kenya
URL:https://labarijournal.com/event/nairobi-film-festival-2025/
CATEGORIES:Media and Entertainment
ATTACH;FMTTYPE=image/png:https://labarijournal.com/wp-content/uploads/2025/10/FESTIVAL-BANNER-1600x1200-1.png
END:VEVENT
BEGIN:VEVENT
DTSTART;VALUE=DATE:20251021
DTEND;VALUE=DATE:20251024
DTSTAMP:20260425T032934
CREATED:20251014T145555Z
LAST-MODIFIED:20251022T145944Z
UID:7973-1761004800-1761263999@labarijournal.com
SUMMARY:MWC Kigali 2025
DESCRIPTION:Attend MWC Kigali and find out about key growth areas like mobile money and the evolution of AI. Learn how you can be part of Africa’s ongoing digital transformation and leave with fresh ideas\, qualified business leads\, and a wealth of knowledge to keep you one step ahead \nLocation: Kigali\, Rwanda \n\n\n\n\n\n\n\n\n\n 
URL:https://labarijournal.com/event/mwc-kigali-2025/
CATEGORIES:Technology
ATTACH;FMTTYPE=image/avif:https://labarijournal.com/wp-content/uploads/2025/10/MWC_LY-130.avif
END:VEVENT
BEGIN:VEVENT
DTSTART;VALUE=DATE:20251023
DTEND;VALUE=DATE:20251024
DTSTAMP:20260425T032934
CREATED:20251009T233425Z
LAST-MODIFIED:20251020T110643Z
UID:7769-1761177600-1761263999@labarijournal.com
SUMMARY:Big Angels Day Africa
DESCRIPTION:Big Angels Day was established to spotlight angel investing across Francophone Africa and bridge gaps with the broader continental ecosystem. It serves as a dedicated forum where startups from Francophone markets pitch to local and cross-border angels\, and investors explore growth opportunities in undercapitalized regions.
URL:https://labarijournal.com/event/big-angels-day-africa/
CATEGORIES:Technology
ATTACH;FMTTYPE=image/jpeg:https://labarijournal.com/wp-content/uploads/2025/10/1730141720889-e1760052826510.jpeg
END:VEVENT
BEGIN:VEVENT
DTSTART;VALUE=DATE:20251023
DTEND;VALUE=DATE:20251029
DTSTAMP:20260425T032934
CREATED:20251009T215540Z
LAST-MODIFIED:20251009T220043Z
UID:7736-1761177600-1761695999@labarijournal.com
SUMMARY:Design Week Lagos 2025
DESCRIPTION:Design Week Lagos 2025 (DWL)\, West Africa’s leading design festival\, returns to celebrate the best of African design\, culture\, and innovation. DWL is widely recognized as a force for raising African design on the global stage.
URL:https://labarijournal.com/event/design-week-lagos-2025/
CATEGORIES:Design
ATTACH;FMTTYPE=image/jpeg:https://labarijournal.com/wp-content/uploads/2025/10/IMG_8344-1-scaled-1.jpg
END:VEVENT
END:VCALENDAR