BEGIN:VCALENDAR
VERSION:2.0
PRODID:-//The Labari Journal - ECPv6.15.20//NONSGML v1.0//EN
CALSCALE:GREGORIAN
METHOD:PUBLISH
X-ORIGINAL-URL:https://labarijournal.com
X-WR-CALDESC:Events for The Labari Journal
REFRESH-INTERVAL;VALUE=DURATION:PT1H
X-Robots-Tag:noindex
X-PUBLISHED-TTL:PT1H
BEGIN:VTIMEZONE
TZID:Africa/Accra
BEGIN:STANDARD
TZOFFSETFROM:+0000
TZOFFSETTO:+0000
TZNAME:GMT
DTSTART:20240101T000000
END:STANDARD
END:VTIMEZONE
BEGIN:VEVENT
DTSTART;VALUE=DATE:20251028
DTEND;VALUE=DATE:20251031
DTSTAMP:20260424T233948
CREATED:20251009T215819Z
LAST-MODIFIED:20251009T215819Z
UID:7739-1761609600-1761868799@labarijournal.com
SUMMARY:Nigeria Energy
DESCRIPTION:Now in its 12th edition\, Nigeria Energy is widely considered the leading energy platform in West Africa. It brings together policymakers\, project developers\, utilities\, and innovators to showcase sustainable energy solutions\, infrastructure models\, and cleantech innovations.
URL:https://labarijournal.com/event/nigeria-energy/
CATEGORIES:Energy
ATTACH;FMTTYPE=image/jpeg:https://labarijournal.com/wp-content/uploads/2025/10/Nigeria_Energy.jpeg
END:VEVENT
BEGIN:VEVENT
DTSTART;VALUE=DATE:20251029
DTEND;VALUE=DATE:20251031
DTSTAMP:20260424T233948
CREATED:20251009T233934Z
LAST-MODIFIED:20251009T233934Z
UID:7773-1761696000-1761868799@labarijournal.com
SUMMARY:AfricArena Togo Summit
DESCRIPTION:AfricArena’s regional summits are known for scouting the next generation of tech talent and high-growth ventures. This event in Lomé offers a sharp focus on the emerging startup scene in Togo and the broader Francophone region\, making it an excellent stop for investors and partners seeking to discover underserved and high-potential markets.
URL:https://labarijournal.com/event/africarena-togo-summit/
CATEGORIES:Technology
ATTACH;FMTTYPE=image/png:https://labarijournal.com/wp-content/uploads/2025/10/Screenshot-2025-10-09-at-6.58.53 PM.png
END:VEVENT
BEGIN:VEVENT
DTSTART;VALUE=DATE:20251029
DTEND;VALUE=DATE:20251101
DTSTAMP:20260424T233948
CREATED:20251009T234205Z
LAST-MODIFIED:20251009T234205Z
UID:7776-1761696000-1761955199@labarijournal.com
SUMMARY:AI Expo Africa 2025
DESCRIPTION:Now in its 8th year\, AI Expo Africa is the largest business-focused Artificial Intelligence (AI)\, Robotic Process Automation (RPA)\, and smart tech trade event on the continent. \nThis is the prime meeting place for enterprises\, AI developers\, and vendors to discuss real-world adoption of machine learning\, making it essential for Deep Tech founders and corporate innovators.
URL:https://labarijournal.com/event/ai-expo-africa-2025/
CATEGORIES:Technology
ATTACH;FMTTYPE=image/jpeg:https://labarijournal.com/wp-content/uploads/2025/10/AI-Expo-Africa-2024-1792-edited-1920x1280-1-1024x683-1.jpg
END:VEVENT
BEGIN:VEVENT
DTSTART;VALUE=DATE:20251029
DTEND;VALUE=DATE:20251103
DTSTAMP:20260424T233948
CREATED:20251009T220725Z
LAST-MODIFIED:20251027T105755Z
UID:7743-1761696000-1762127999@labarijournal.com
SUMMARY:Lagos Fashion Week 2025
DESCRIPTION:As one of Africa’s most influential style platforms\, Lagos Fashion Week returns to celebrate the creativity\, craftsmanship\, and culture shaping the continent’s fashion future. \nFrom bold runway presentations to sustainability-focused talks and designer showcases\, this year’s edition spotlights innovation\, inclusivity\, and the growing global influence of African fashion. A must-attend for designers\, buyers\, media\, and style enthusiasts looking to experience where heritage meets contemporary design. \nLocation: Lagos\, Nigeria
URL:https://labarijournal.com/event/lagos-fashion-week-2025/
CATEGORIES:Fashion
ATTACH;FMTTYPE=image/png:https://labarijournal.com/wp-content/uploads/2025/10/Screenshot-2025-10-09-at-4.01.45 PM.png
END:VEVENT
END:VCALENDAR