BEGIN:VCALENDAR
VERSION:2.0
PRODID:-//The Labari Journal - ECPv6.15.20//NONSGML v1.0//EN
CALSCALE:GREGORIAN
METHOD:PUBLISH
X-WR-CALNAME:The Labari Journal
X-ORIGINAL-URL:https://labarijournal.com
X-WR-CALDESC:Events for The Labari Journal
REFRESH-INTERVAL;VALUE=DURATION:PT1H
X-Robots-Tag:noindex
X-PUBLISHED-TTL:PT1H
BEGIN:VTIMEZONE
TZID:Africa/Accra
BEGIN:STANDARD
TZOFFSETFROM:+0000
TZOFFSETTO:+0000
TZNAME:GMT
DTSTART:20240101T000000
END:STANDARD
END:VTIMEZONE
BEGIN:VEVENT
DTSTART;VALUE=DATE:20251127
DTEND;VALUE=DATE:20251128
DTSTAMP:20260424T233407
CREATED:20251010T104926Z
LAST-MODIFIED:20251017T103939Z
UID:7810-1764201600-1764287999@labarijournal.com
SUMMARY:Accra Lawtech Hangout 2025
DESCRIPTION:The Accra Lawtech Hangout is a networking event dedicated to exploring the intersection of law and technology in Ghana. Hosted by Legaltech Lounge\, the annual event brings together lawyers\, tech entrepreneurs\, investors\, and students.
URL:https://labarijournal.com/event/accra-lawtech-hangout-2025/
CATEGORIES:Technology
ATTACH;FMTTYPE=image/jpeg:https://labarijournal.com/wp-content/uploads/2025/10/img-1.jpg
END:VEVENT
BEGIN:VEVENT
DTSTART;VALUE=DATE:20251127
DTEND;VALUE=DATE:20251129
DTSTAMP:20260424T233407
CREATED:20251010T000055Z
LAST-MODIFIED:20251010T000055Z
UID:7786-1764201600-1764374399@labarijournal.com
SUMMARY:Africa Early Stage Investor Summit (AESIS)
DESCRIPTION:Co-hosted by the African Business Angels Network (ABAN) and Venture Capital for Africa (VC4A)\, AESIS is the premier event specifically designed to connect early-stage investors with Africa’s most promising startup founders. \nThis is a high-density\, high-impact summit if your goal is to raise or deploy capital in the seed and pre-Series A space.
URL:https://labarijournal.com/event/africa-early-stage-investor-summit-aesis/
CATEGORIES:Business
ATTACH;FMTTYPE=image/png:https://labarijournal.com/wp-content/uploads/2025/10/Screenshot-2025-10-09-at-7.00.51 PM.png
END:VEVENT
END:VCALENDAR