BEGIN:VCALENDAR
VERSION:2.0
PRODID:-//The Labari Journal - ECPv6.15.20//NONSGML v1.0//EN
CALSCALE:GREGORIAN
METHOD:PUBLISH
X-WR-CALNAME:The Labari Journal
X-ORIGINAL-URL:https://labarijournal.com
X-WR-CALDESC:Events for The Labari Journal
REFRESH-INTERVAL;VALUE=DURATION:PT1H
X-Robots-Tag:noindex
X-PUBLISHED-TTL:PT1H
BEGIN:VTIMEZONE
TZID:Africa/Accra
BEGIN:STANDARD
TZOFFSETFROM:+0000
TZOFFSETTO:+0000
TZNAME:GMT
DTSTART:20240101T000000
END:STANDARD
END:VTIMEZONE
BEGIN:VEVENT
DTSTART;VALUE=DATE:20251127
DTEND;VALUE=DATE:20251129
DTSTAMP:20260424T233411
CREATED:20251010T000055Z
LAST-MODIFIED:20251010T000055Z
UID:7786-1764201600-1764374399@labarijournal.com
SUMMARY:Africa Early Stage Investor Summit (AESIS)
DESCRIPTION:Co-hosted by the African Business Angels Network (ABAN) and Venture Capital for Africa (VC4A)\, AESIS is the premier event specifically designed to connect early-stage investors with Africa’s most promising startup founders. \nThis is a high-density\, high-impact summit if your goal is to raise or deploy capital in the seed and pre-Series A space.
URL:https://labarijournal.com/event/africa-early-stage-investor-summit-aesis/
CATEGORIES:Business
ATTACH;FMTTYPE=image/png:https://labarijournal.com/wp-content/uploads/2025/10/Screenshot-2025-10-09-at-7.00.51 PM.png
END:VEVENT
BEGIN:VEVENT
DTSTART;VALUE=DATE:20251128
DTEND;VALUE=DATE:20251129
DTSTAMP:20260424T233411
CREATED:20251014T145109Z
LAST-MODIFIED:20251014T145235Z
UID:7969-1764288000-1764374399@labarijournal.com
SUMMARY:Digital Marketers' Conference 2025
DESCRIPTION:The Conference will feature an engaging lineup of panel discussions\, keynotes\, and interactive breakout sessions\, focusing on the future of marketing in an AI-driven world. \nAttendees will gain insights into data-driven marketing\, SME growth strategies\, and influencer engagement\, alongside real-world case studies and peer learning experiences. \nLocation: Ghana\, Accra
URL:https://labarijournal.com/event/digital-marketers-conference-2025/
CATEGORIES:Marketing
ATTACH;FMTTYPE=image/jpeg:https://labarijournal.com/wp-content/uploads/2025/10/684f8b515bc32c3c.jpg
END:VEVENT
BEGIN:VEVENT
DTSTART;VALUE=DATE:20251128
DTEND;VALUE=DATE:20251129
DTSTAMP:20260424T233411
CREATED:20251009T222530Z
LAST-MODIFIED:20251009T222530Z
UID:7758-1764288000-1764374399@labarijournal.com
SUMMARY:Africa Startup Festival 2025
DESCRIPTION:Recognized as Africa’s top deal-making and networking event\, the Africa Startup Festival brings together investors\, founders\, builders\, and operators in one powerful end-of-year gathering. \nIt’s the definitive platform to explore how emerging technologies are transforming industries and to finalize the partnerships and deals that will define the strategic direction of 2026. In its most recent edition\, it drew over 3\,000 participants from 15+ countries\, founders\, investors\, and operators converging in Lagos.
URL:https://labarijournal.com/event/africa-startup-festival-2025/
CATEGORIES:Technology
ATTACH;FMTTYPE=image/png:https://labarijournal.com/wp-content/uploads/2025/10/Screenshot-2025-10-09-at-6.58.01-PM-1024x614-1.png
END:VEVENT
END:VCALENDAR