BEGIN:VCALENDAR
VERSION:2.0
PRODID:-//The Labari Journal - ECPv6.15.20//NONSGML v1.0//EN
CALSCALE:GREGORIAN
METHOD:PUBLISH
X-ORIGINAL-URL:https://labarijournal.com
X-WR-CALDESC:Events for The Labari Journal
REFRESH-INTERVAL;VALUE=DURATION:PT1H
X-Robots-Tag:noindex
X-PUBLISHED-TTL:PT1H
BEGIN:VTIMEZONE
TZID:Africa/Accra
BEGIN:STANDARD
TZOFFSETFROM:+0000
TZOFFSETTO:+0000
TZNAME:GMT
DTSTART:20250101T000000
END:STANDARD
END:VTIMEZONE
BEGIN:VEVENT
DTSTART;VALUE=DATE:20260130
DTEND;VALUE=DATE:20260201
DTSTAMP:20260424T193147
CREATED:20251013T095250Z
LAST-MODIFIED:20251221T163542Z
UID:7927-1769731200-1769903999@labarijournal.com
SUMMARY:Tech Revolution Africa 2026
DESCRIPTION:Tech Revolution Africa Conference connects the full value chain of technology in Africa. It gathers together thousands of talents\, players\, and leaders in the African tech ecosystem to network\, collaborate\, and discuss the growth of technological innovation on the continent. \nLocation: Lagos\, Nigeria
URL:https://labarijournal.com/event/tech-revolution-africa-2026/
CATEGORIES:Technology
ATTACH;FMTTYPE=image/png:https://labarijournal.com/wp-content/uploads/2025/10/Screenshot-2025-10-13-at-9.51.48 AM.png
END:VEVENT
END:VCALENDAR