BEGIN:VCALENDAR
VERSION:2.0
PRODID:-//The Labari Journal - ECPv6.15.20//NONSGML v1.0//EN
CALSCALE:GREGORIAN
METHOD:PUBLISH
X-ORIGINAL-URL:https://labarijournal.com
X-WR-CALDESC:Events for The Labari Journal
REFRESH-INTERVAL;VALUE=DURATION:PT1H
X-Robots-Tag:noindex
X-PUBLISHED-TTL:PT1H
BEGIN:VTIMEZONE
TZID:Africa/Accra
BEGIN:STANDARD
TZOFFSETFROM:+0000
TZOFFSETTO:+0000
TZNAME:GMT
DTSTART:20240101T000000
END:STANDARD
END:VTIMEZONE
BEGIN:VEVENT
DTSTART;VALUE=DATE:20251106
DTEND;VALUE=DATE:20251110
DTSTAMP:20260424T085700
CREATED:20251009T221432Z
LAST-MODIFIED:20251010T091152Z
UID:7747-1762387200-1762732799@labarijournal.com
SUMMARY:ART X Lagos
DESCRIPTION:Celebrating its 10th edition\, West Africa’s largest contemporary art fair returns to showcase the vibrant and diverse works of African and diaspora artists. Founded in 2016 by Tokini Peterside-Schwebig\, ART X Lagos has grown into West Africa’s most influential contemporary art fair.
URL:https://labarijournal.com/event/art-x-lagos/
CATEGORIES:Design
ATTACH;FMTTYPE=image/png:https://labarijournal.com/wp-content/uploads/2025/10/Screenshot-2025-10-09-at-4.02.19 PM.png
END:VEVENT
BEGIN:VEVENT
DTSTART;VALUE=DATE:20251023
DTEND;VALUE=DATE:20251029
DTSTAMP:20260424T085700
CREATED:20251009T215540Z
LAST-MODIFIED:20251009T220043Z
UID:7736-1761177600-1761695999@labarijournal.com
SUMMARY:Design Week Lagos 2025
DESCRIPTION:Design Week Lagos 2025 (DWL)\, West Africa’s leading design festival\, returns to celebrate the best of African design\, culture\, and innovation. DWL is widely recognized as a force for raising African design on the global stage.
URL:https://labarijournal.com/event/design-week-lagos-2025/
CATEGORIES:Design
ATTACH;FMTTYPE=image/jpeg:https://labarijournal.com/wp-content/uploads/2025/10/IMG_8344-1-scaled-1.jpg
END:VEVENT
END:VCALENDAR