BEGIN:VCALENDAR
VERSION:2.0
PRODID:-//The Labari Journal - ECPv6.15.20//NONSGML v1.0//EN
CALSCALE:GREGORIAN
METHOD:PUBLISH
X-WR-CALNAME:The Labari Journal
X-ORIGINAL-URL:https://labarijournal.com
X-WR-CALDESC:Events for The Labari Journal
REFRESH-INTERVAL;VALUE=DURATION:PT1H
X-Robots-Tag:noindex
X-PUBLISHED-TTL:PT1H
BEGIN:VTIMEZONE
TZID:Africa/Accra
BEGIN:STANDARD
TZOFFSETFROM:+0000
TZOFFSETTO:+0000
TZNAME:GMT
DTSTART:20240101T000000
END:STANDARD
END:VTIMEZONE
BEGIN:VEVENT
DTSTART;VALUE=DATE:20251016
DTEND;VALUE=DATE:20251019
DTSTAMP:20260425T112729
CREATED:20251010T090337Z
LAST-MODIFIED:20251010T091015Z
UID:7801-1760572800-1760831999@labarijournal.com
SUMMARY:Forum Création Africa
DESCRIPTION:After its first edition held in Paris in 2023\, the leading platform for African creative industries is coming to Lagos for its first edition on African soil. Led by MansA (Maison des Mondes Africains) and backed by AFD\, Bpifrance\, Business France\, and Institut français\, the French initiative works to foster dialogue\, drive co-production\, and establish sustainable partnerships between Africa and Europe.
URL:https://labarijournal.com/event/forum-creation-africa/
CATEGORIES:Art
ATTACH;FMTTYPE=image/png:https://labarijournal.com/wp-content/uploads/2025/10/5RfitaJ5GrQyHVewwXLG9Do7.png
END:VEVENT
BEGIN:VEVENT
DTSTART;VALUE=DATE:20251015
DTEND;VALUE=DATE:20251017
DTSTAMP:20260425T112729
CREATED:20251009T214612Z
LAST-MODIFIED:20251009T222732Z
UID:7728-1760486400-1760659199@labarijournal.com
SUMMARY:Moonshot by TechCabal
DESCRIPTION:Moonshot returns for its third edition in 2025\, having already drawn thousands of innovators and ecosystem builders in past years. Organized by TechCabal (part of Big Cabal Media)\, this flagship conference is designed to connect founders\, investors\, creators\, and policy leaders across Africa’s tech ecosystem.
URL:https://labarijournal.com/event/moonshot-by-techcabal/
CATEGORIES:Technology
ATTACH;FMTTYPE=image/jpeg:https://labarijournal.com/wp-content/uploads/2025/10/Osaretin-Guobadia-Juliet-Ehimuan-and-Tomiwa-Aladekomo-during-a-panel-session-on-Nigerias-digital-economy-at-Moonshot-by-TechCabal-1024x634-1.jpeg
END:VEVENT
BEGIN:VEVENT
DTSTART;VALUE=DATE:20251013
DTEND;VALUE=DATE:20251016
DTSTAMP:20260425T112729
CREATED:20251009T231453Z
LAST-MODIFIED:20251009T232400Z
UID:7763-1760313600-1760572799@labarijournal.com
SUMMARY:AfriLabs
DESCRIPTION:Organized by AfriLabs\, the pan-African network of tech and innovation hubs launched in 2011\, the AfriLabs Annual Gathering has grown from a small hub meetup into Africa’s preeminent innovation summit\, representing over 500 hubs in 53 countries. \nNow entering its 10th edition\, this milestone gathering is co-hosted with UNDP’s Timbuktoo initiative in 2025\, under the theme “Africa’s Innovation Future: Policy\, Partnerships & Progress.”
URL:https://labarijournal.com/event/afrilabs/
CATEGORIES:Technology
ATTACH;FMTTYPE=image/jpeg:https://labarijournal.com/wp-content/uploads/2025/10/250736254_4679025182161377_5095499692609440317_n-e1719874789668.jpg
END:VEVENT
END:VCALENDAR