BEGIN:VCALENDAR
VERSION:2.0
PRODID:-//The Labari Journal - ECPv6.15.20//NONSGML v1.0//EN
CALSCALE:GREGORIAN
METHOD:PUBLISH
X-WR-CALNAME:The Labari Journal
X-ORIGINAL-URL:https://labarijournal.com
X-WR-CALDESC:Events for The Labari Journal
REFRESH-INTERVAL;VALUE=DURATION:PT1H
X-Robots-Tag:noindex
X-PUBLISHED-TTL:PT1H
BEGIN:VTIMEZONE
TZID:Africa/Accra
BEGIN:STANDARD
TZOFFSETFROM:+0000
TZOFFSETTO:+0000
TZNAME:GMT
DTSTART:20240101T000000
END:STANDARD
END:VTIMEZONE
BEGIN:VEVENT
DTSTART;VALUE=DATE:20251201
DTEND;VALUE=DATE:20251205
DTSTAMP:20260424T204954
CREATED:20251201T150545Z
LAST-MODIFIED:20251201T150625Z
UID:9354-1764547200-1764892799@labarijournal.com
SUMMARY:2025 Data Protection Africa Summit
DESCRIPTION:Organized by the Africa Digital Rights Hub and the Data Protection Commission of Ghana\, this is described as Africa’s largest gathering on the topic. It will include masterclasses\, conference days\, and high-level meetings for data controllers\, regulators\, and tech companies \nLocation: Accra\, Ghana
URL:https://labarijournal.com/event/2025-data-protection-africa-summit/
CATEGORIES:Technology
ATTACH;FMTTYPE=image/jpeg:https://labarijournal.com/wp-content/uploads/2025/12/IMG-20241203-WA0125-2048x1365-1.jpg
END:VEVENT
BEGIN:VEVENT
DTSTART;VALUE=DATE:20251202
DTEND;VALUE=DATE:20251204
DTSTAMP:20260424T204954
CREATED:20251010T000412Z
LAST-MODIFIED:20251013T095839Z
UID:7793-1764633600-1764806399@labarijournal.com
SUMMARY:AfricArena Grand Summit
DESCRIPTION:The climax of AfricArena’s year-long scouting program\, the Grand Summit showcases the top startups from across the continent in front of an audience of global investors and corporates. It’s an energetic platform for witnessing pitch competitions and understanding the emerging themes and companies set to dominate the African tech landscape.
URL:https://labarijournal.com/event/africarena-grand-summit/
CATEGORIES:Technology
ATTACH;FMTTYPE=image/jpeg:https://labarijournal.com/wp-content/uploads/2025/10/https___cdn.evbuc_.com_images_1054843733_218374360562_1_original.jpeg
END:VEVENT
BEGIN:VEVENT
DTSTART;VALUE=DATE:20251202
DTEND;VALUE=DATE:20251205
DTSTAMP:20260424T204954
CREATED:20251010T000252Z
LAST-MODIFIED:20251010T091308Z
UID:7790-1764633600-1764892799@labarijournal.com
SUMMARY:SuperReturn Africa
DESCRIPTION:SuperReturn Africa is a top-tier private capital event\, bringing together leading global and local private equity and venture capital investors. Past editions have generated over 13\,000 one-on-one meetings\, featured closed-door LP/GP forums\, workshops on alternative fund structures\, and spotlight sessions on IP & creative sectors.
URL:https://labarijournal.com/event/superreturn-africa/
CATEGORIES:Business
ATTACH;FMTTYPE=image/avif:https://labarijournal.com/wp-content/uploads/2025/10/53383639636-67080349ea-c-7622953d96cdbb9f2dd1cf4cb44bfd29-1.avif
END:VEVENT
BEGIN:VEVENT
DTSTART;VALUE=DATE:20251203
DTEND;VALUE=DATE:20251206
DTSTAMP:20260424T204954
CREATED:20251016T210408Z
LAST-MODIFIED:20251016T210408Z
UID:8052-1764720000-1764979199@labarijournal.com
SUMMARY:Africa Bitcoin Conference
DESCRIPTION:Every year\, the Africa Bitcoin Conference brings together activists\, innovators\, and decision-makers to explore how Bitcoin safeguards fundamental freedoms\, strengthens economic autonomy\, and paves the way for lasting sovereignty. \nLocation: Caudan Arts Centre\, Port Louis\, Mauritius
URL:https://labarijournal.com/event/africa-bitcoin-conference/
CATEGORIES:Technology
ATTACH;FMTTYPE=image/png:https://labarijournal.com/wp-content/uploads/2025/10/Screenshot-2025-10-16-at-9.00.46 PM.png
END:VEVENT
BEGIN:VEVENT
DTSTART;VALUE=DATE:20251204
DTEND;VALUE=DATE:20251206
DTSTAMP:20260424T204954
CREATED:20251009T161340Z
LAST-MODIFIED:20251009T215951Z
UID:7711-1764806400-1764979199@labarijournal.com
SUMMARY:Tech in Ghana 2025
DESCRIPTION:This unique edition of the highly respected Tech in Ghana conference shifts focus to the Ashanti Region\, spotlighting the growing tech and innovation happening beyond the capital\, Accra. \nIt’s an essential event for connecting with regional tech players\, understanding grassroots innovation\, and exploring opportunities in secondary cities.
URL:https://labarijournal.com/event/tech-in-ghana-2025/
CATEGORIES:Technology
ATTACH;FMTTYPE=image/png:https://labarijournal.com/wp-content/uploads/2025/10/Screenshot-2025-10-09-at-4.15.37 PM.png
END:VEVENT
BEGIN:VEVENT
DTSTART;VALUE=DATE:20251220
DTEND;VALUE=DATE:20251221
DTSTAMP:20260424T204954
CREATED:20251128T093747Z
LAST-MODIFIED:20251128T093747Z
UID:9239-1766188800-1766275199@labarijournal.com
SUMMARY:Nigerian Student Fashion and Design Week (NSFDW) – 9th Edition
DESCRIPTION:The 9th edition of NSFDW returns to Lagos\, bringing together fashion\, culture\, and youth innovation in a vibrant year-end showcase. This edition features runway presentations from top emerging designers\, panel discussions\, and networking opportunities. Past NSFDW winners have gone on to showcase at Dallas Fashion Week\, affirming its role as a leading launchpad for African creativity. \nLocation: Lagos. Nigeria
URL:https://labarijournal.com/event/nigerian-student-fashion-and-design-week-nsfdw-9th-edition/
CATEGORIES:Fashion
ATTACH;FMTTYPE=image/jpeg:https://labarijournal.com/wp-content/uploads/2025/11/NSFDW-photo-1-1068x712-1.jpg
END:VEVENT
BEGIN:VEVENT
DTSTART;VALUE=DATE:20251221
DTEND;VALUE=DATE:20251222
DTSTAMP:20260424T204954
CREATED:20251128T095049Z
LAST-MODIFIED:20251128T150138Z
UID:9242-1766275200-1766361599@labarijournal.com
SUMMARY:The Amala & Palmwine Festival 1.0
DESCRIPTION:A cultural food-heritage festival celebrating authentic Yoruba cuisine and lifestyle. Guests will enjoy traditional Amala and fresh Palmwine served in Ibadan/Abeokuta styles\, Yoruba fashion\, indigenous games\, language classes\, and special cultural showcases inspired by the Oonirisa of Ile-Ife. \nLocation: Lagos\, Nigeria
URL:https://labarijournal.com/event/the-amala-palmwine-festival-1-0/
CATEGORIES:Art
ATTACH;FMTTYPE=image/webp:https://labarijournal.com/wp-content/uploads/2025/11/1763045345_a67d0659_e4e5_4c29_b878_170b7187e747.webp
END:VEVENT
BEGIN:VEVENT
DTSTART;VALUE=DATE:20251228
DTEND;VALUE=DATE:20251230
DTSTAMP:20260424T204954
CREATED:20251023T194830Z
LAST-MODIFIED:20251023T194830Z
UID:8252-1766880000-1767052799@labarijournal.com
SUMMARY:Afrofuture 2025
DESCRIPTION:This December\, the world’s biggest celebration of African culture is back in Ghana. Get your fits ready\, tell your people\, and prepare for an unforgettable experience at AfroFuture Ghana. \nLocation: Accra\, Ghana
URL:https://labarijournal.com/event/afrofuture-ghana/
CATEGORIES:Media and Entertainment
ATTACH;FMTTYPE=image/avif:https://labarijournal.com/wp-content/uploads/2025/10/68a33f2d984e42ee74eaac19_Copy-of-Copy-of-ORANGE-PURPLE.avif
END:VEVENT
BEGIN:VEVENT
DTSTART;VALUE=DATE:20251229
DTEND;VALUE=DATE:20251231
DTSTAMP:20260424T204954
CREATED:20251029T193554Z
LAST-MODIFIED:20251029T193554Z
UID:8482-1766966400-1767139199@labarijournal.com
SUMMARY:Talking Drums
DESCRIPTION:The Talking Drums Festival\, positioned as an afro-diasporic celebration of hip-hop culture\, will take place on December 29th and 30th\, 2025. This 48-hour non-stop celebration will spotlight rhythm\, culture\, and unity\, featuring performances from over 40 artists representing the U.S.\, U.K.\, and various countries throughout the African continent. \nLocation: Accra\, Ghana
URL:https://labarijournal.com/event/talking-drums/
CATEGORIES:Media and Entertainment
ATTACH;FMTTYPE=image/png:https://labarijournal.com/wp-content/uploads/2025/10/Screenshot-2025-10-29-at-7.31.15-PM.png
END:VEVENT
END:VCALENDAR