BEGIN:VCALENDAR
VERSION:2.0
PRODID:-//The Labari Journal - ECPv6.15.20//NONSGML v1.0//EN
CALSCALE:GREGORIAN
METHOD:PUBLISH
X-WR-CALNAME:The Labari Journal
X-ORIGINAL-URL:https://labarijournal.com
X-WR-CALDESC:Events for The Labari Journal
REFRESH-INTERVAL;VALUE=DURATION:PT1H
X-Robots-Tag:noindex
X-PUBLISHED-TTL:PT1H
BEGIN:VTIMEZONE
TZID:Africa/Accra
BEGIN:STANDARD
TZOFFSETFROM:+0000
TZOFFSETTO:+0000
TZNAME:GMT
DTSTART:20250101T000000
END:STANDARD
END:VTIMEZONE
BEGIN:VEVENT
DTSTART;VALUE=DATE:20260106
DTEND;VALUE=DATE:20260107
DTSTAMP:20260424T193202
CREATED:20251129T215905Z
LAST-MODIFIED:20251222T094949Z
UID:9287-1767657600-1767743999@labarijournal.com
SUMMARY:The Blackout: Amaarae Homecoming Concert
DESCRIPTION:Amaarae returns to Accra for an electrifying year-end homecoming show at The Underbridge Annex. This special edition blends her groundbreaking sound with a unique creative collaboration with music powered by iMullar Sound System. Expect high intensity\, unforgettable performances\, and a cultural moment that brings together music lovers\, creatives\, and fans of Amaarae’s new era. \nLocation: Accra\, Ghana
URL:https://labarijournal.com/event/the-blackout-amaarae-homecoming-concert/
LOCATION:Underbridge Annex\, Underbridge Annex\, East Legon\, Accra\, Ghana
CATEGORIES:Art
ATTACH;FMTTYPE=image/webp:https://labarijournal.com/wp-content/uploads/2025/11/amaarae.webp
END:VEVENT
BEGIN:VEVENT
DTSTART;VALUE=DATE:20260120
DTEND;VALUE=DATE:20260123
DTSTAMP:20260424T193202
CREATED:20260113T115230Z
LAST-MODIFIED:20260113T115230Z
UID:10234-1768867200-1769126399@labarijournal.com
SUMMARY:World Advanced Manufacturing & Future Mobility 2026
DESCRIPTION:The World Advanced Manufacturing & Future Mobility Exhibition (WAM Morocco) makes its debut in Casablanca from 20 to 22 January\, positioning itself as the region’s first Industry 4.0–focused platform dedicated to advanced and intelligent manufacturing\, future mobility\, industrial innovation and supply-chain transformation. \nLocation: Casablanca\, Morocco
URL:https://labarijournal.com/event/world-advanced-manufacturing-future-mobility-2026/
CATEGORIES:Technology
ATTACH;FMTTYPE=image/jpeg:https://labarijournal.com/wp-content/uploads/2026/01/Technology-and-interaction.jpg
END:VEVENT
BEGIN:VEVENT
DTSTART;VALUE=DATE:20260130
DTEND;VALUE=DATE:20260201
DTSTAMP:20260424T193202
CREATED:20251013T095250Z
LAST-MODIFIED:20251221T163542Z
UID:7927-1769731200-1769903999@labarijournal.com
SUMMARY:Tech Revolution Africa 2026
DESCRIPTION:Tech Revolution Africa Conference connects the full value chain of technology in Africa. It gathers together thousands of talents\, players\, and leaders in the African tech ecosystem to network\, collaborate\, and discuss the growth of technological innovation on the continent. \nLocation: Lagos\, Nigeria
URL:https://labarijournal.com/event/tech-revolution-africa-2026/
CATEGORIES:Technology
ATTACH;FMTTYPE=image/png:https://labarijournal.com/wp-content/uploads/2025/10/Screenshot-2025-10-13-at-9.51.48 AM.png
END:VEVENT
END:VCALENDAR