BEGIN:VCALENDAR
VERSION:2.0
PRODID:-//The Labari Journal - ECPv6.15.20//NONSGML v1.0//EN
CALSCALE:GREGORIAN
METHOD:PUBLISH
X-WR-CALNAME:The Labari Journal
X-ORIGINAL-URL:https://labarijournal.com
X-WR-CALDESC:Events for The Labari Journal
REFRESH-INTERVAL;VALUE=DURATION:PT1H
X-Robots-Tag:noindex
X-PUBLISHED-TTL:PT1H
BEGIN:VTIMEZONE
TZID:Africa/Accra
BEGIN:STANDARD
TZOFFSETFROM:+0000
TZOFFSETTO:+0000
TZNAME:GMT
DTSTART:20250101T000000
END:STANDARD
END:VTIMEZONE
BEGIN:VEVENT
DTSTART;VALUE=DATE:20260313
DTEND;VALUE=DATE:20260315
DTSTAMP:20260424T164307
CREATED:20260114T121503Z
LAST-MODIFIED:20260114T121503Z
UID:10244-1773360000-1773532799@labarijournal.com
SUMMARY:Moment
DESCRIPTION:Moment is where the most ambitious creators and brands come together to connect\, learn\, get inspired\, and access opportunities to level up.
URL:https://labarijournal.com/event/moment/
LOCATION:Landmark Event Centre\, Plot 2 & 3\, Water Corporation Dr\, Victoria Island\, Annex 106104\, Nigeria
CATEGORIES:Media and Entertainment
ATTACH;FMTTYPE=image/png:https://labarijournal.com/wp-content/uploads/2026/01/Screenshot-2026-01-14-at-12.12.56-PM-scaled.png
END:VEVENT
BEGIN:VEVENT
DTSTART;TZID=Africa/Accra:20260321T100000
DTEND;TZID=Africa/Accra:20260321T170000
DTSTAMP:20260424T164307
CREATED:20260117T171459Z
LAST-MODIFIED:20260117T171726Z
UID:10355-1774087200-1774112400@labarijournal.com
SUMMARY:Afro Women In Animation Festival 2026
DESCRIPTION:Afro Women in Animation Festival is a gathering celebrating and equipping women in the animation industry across Africa. The festival features panel discussions\, workshops\, portfolio reviews\, screenings\, exhibitions\, and networking sessions designed to connect participants with industry professionals and real career opportunities.
URL:https://labarijournal.com/event/afro-women-in-animation-festival-2026/
CATEGORIES:Art
ATTACH;FMTTYPE=image/webp:https://labarijournal.com/wp-content/uploads/2026/01/d6rsqwofnus0yl4n3cw8-e1768670238467.webp
END:VEVENT
BEGIN:VEVENT
DTSTART;VALUE=DATE:20260324
DTEND;VALUE=DATE:20260328
DTSTAMP:20260424T164307
CREATED:20260219T171600Z
LAST-MODIFIED:20260219T172012Z
UID:10994-1774310400-1774655999@labarijournal.com
SUMMARY:Africa Gaming Expo 2026
DESCRIPTION:Africa Gaming Expo provides an opportunity to explore the latest trends driving digital transformation across the gaming and financial sectors. \nIndustry leaders and experts deliver insightful keynotes\, panel discussions\, and strategic workshops\, providing in-depth knowledge on market forecasts\, policy changes\, investment opportunities\, and emerging technologies that are revolutionizing gaming\, payments\, and online transactions in Africa
URL:https://labarijournal.com/event/africa-gaming-expo-2026/
LOCATION:Eko Convention Center\, Eko Hotels and Suites\, Victoria Island\, Lagos\, Nigeria
ATTACH;FMTTYPE=image/jpeg:https://labarijournal.com/wp-content/uploads/2026/02/b3-e1771521348786.jpg
END:VEVENT
END:VCALENDAR