BEGIN:VCALENDAR
VERSION:2.0
PRODID:-//The Labari Journal - ECPv6.15.20//NONSGML v1.0//EN
CALSCALE:GREGORIAN
METHOD:PUBLISH
X-ORIGINAL-URL:https://labarijournal.com
X-WR-CALDESC:Events for The Labari Journal
REFRESH-INTERVAL;VALUE=DURATION:PT1H
X-Robots-Tag:noindex
X-PUBLISHED-TTL:PT1H
BEGIN:VTIMEZONE
TZID:Africa/Accra
BEGIN:STANDARD
TZOFFSETFROM:+0000
TZOFFSETTO:+0000
TZNAME:GMT
DTSTART:20240101T000000
END:STANDARD
END:VTIMEZONE
BEGIN:VEVENT
DTSTART;VALUE=DATE:20251121
DTEND;VALUE=DATE:20251124
DTSTAMP:20260424T153804
CREATED:20251029T145627Z
LAST-MODIFIED:20251029T145627Z
UID:8467-1763683200-1763942399@labarijournal.com
SUMMARY:Global Entrepreneurship Festival World
DESCRIPTION:The Global Entrepreneurship Festival (#GEF)\, the world’s largest and one of the most transformative entrepreneurship events\, is a global platform dedicated to celebrating and catalyzing entrepreneurship across different levels and sectors while advancing the United Nations Sustainable Development Goals (SDGs) through innovation\, enterprise\, creativity\, technology and collaboration \nLocation: Accra\, Ghana
URL:https://labarijournal.com/event/global-entrepreneurship-festival-world/
CATEGORIES:Networking
ATTACH;FMTTYPE=image/jpeg:https://labarijournal.com/wp-content/uploads/2025/10/img-7-scaled-1.jpg
END:VEVENT
END:VCALENDAR