BEGIN:VCALENDAR
VERSION:2.0
PRODID:-//The Labari Journal - ECPv6.15.20//NONSGML v1.0//EN
CALSCALE:GREGORIAN
METHOD:PUBLISH
X-ORIGINAL-URL:https://labarijournal.com
X-WR-CALDESC:Events for The Labari Journal
REFRESH-INTERVAL;VALUE=DURATION:PT1H
X-Robots-Tag:noindex
X-PUBLISHED-TTL:PT1H
BEGIN:VTIMEZONE
TZID:Africa/Accra
BEGIN:STANDARD
TZOFFSETFROM:+0000
TZOFFSETTO:+0000
TZNAME:GMT
DTSTART:20250101T000000
END:STANDARD
END:VTIMEZONE
BEGIN:VEVENT
DTSTART;VALUE=DATE:20260226
DTEND;VALUE=DATE:20260227
DTSTAMP:20260421T191445
CREATED:20251114T004047Z
LAST-MODIFIED:20251114T004205Z
UID:8824-1772064000-1772150399@labarijournal.com
SUMMARY:Digital Retail Africa 2026
DESCRIPTION:The retail industry is evolving at an unprecedented pace. Are you ready to lead the transformation? Join us on 26 February 2026 in Cape Town for Digital Retail Africa 2026\, where you’ll gain the insights and tools to outpace disruption and thrive in the New Age of Retail. \nLocation: South Africa
URL:https://labarijournal.com/event/digital-retail-africa-2026/
CATEGORIES:Technology
ATTACH;FMTTYPE=image/jpeg:https://labarijournal.com/wp-content/uploads/2025/11/dtc-webinar-banner.jpg
END:VEVENT
END:VCALENDAR